BEGIN:VCALENDAR
VERSION:2.0
PRODID:-//Library Market//iCal Export//EN
BEGIN:VEVENT
SUMMARY:Raymond Public Library&#039;s Spring Blood Drive
UID:6816
DTSTAMP:20260424T060800Z
DTSTART:20260514T180000Z
DTEND:20260514T220000Z
LOCATION:126 West Court Street, P.O. Box 14, Raymond, MS 39154, United Sta
 tes
ROOM: Raymond Public Library&#039;s Spring Blood Drive
DESCRIPTION: 
URL:https://www.jhlibrary.org/event/raymond-public-librarys-spring-blood-d
 rive-6816
END:VEVENT
END:VCALENDAR
