BEGIN:VCALENDAR
VERSION:2.0
PRODID:-//Library Market//iCal Export//EN
BEGIN:VEVENT
SUMMARY:Celebrate National Fruit Cocktail Day With Us!
UID:6815
DTSTAMP:20260424T060800Z
DTSTART:20260513T050000Z
DTEND:20260513T050000Z
LOCATION:126 West Court Street, P.O. Box 14, Raymond, MS 39154, United Sta
 tes
ROOM: Celebrate National Fruit Cocktail Day With Us!
DESCRIPTION: 
URL:https://www.jhlibrary.org/event/celebrate-national-fruit-cocktail-day-
 us-6815
END:VEVENT
END:VCALENDAR
