BEGIN:VCALENDAR
VERSION:2.0
PRODID:-//Library Market//iCal Export//EN
BEGIN:VEVENT
SUMMARY:Majestic Crowns: A Hat Fashion Show
UID:6773
DTSTAMP:20260423T153100Z
DTSTART:20260502T150000Z
DTEND:20260502T170000Z
LOCATION:Jackson Hinds Library, 2525 Robinson St., Jackson, MS 39209, Unit
 ed States
ROOM: Margaret Walker Alexander Library - Meeting Room
DESCRIPTION:“Top it off with style.”  On May 2, 2026, the Alexander L
 ibrary will host &quot;Majestic Crowns: Hat Fashion Show&quot; from 10:00 
 am until 12:00 noon. The fashion show honors the women who wear many hats,
  celebrating creativity, culture, and craftsmanship, and serving as a vibr
 ant platform for self-expression, fashion, and social connection. 
URL:https://www.jhlibrary.org/event/majestic-crowns-hat-fashion-show-6773
END:VEVENT
END:VCALENDAR
