BEGIN:VCALENDAR
VERSION:2.0
PRODID:-//Library Market//iCal Export//EN
BEGIN:VEVENT
SUMMARY:Rhythm &amp; Rows Line Dance Class
UID:6769
DTSTAMP:20260423T062900Z
DTSTART:20260424T210000Z
DTEND:20260424T214500Z
LOCATION:2525 Robinson St., Jackson, MS 39209, United States
ROOM: Outside The Meeting Room
DESCRIPTION:The M.W. Alexander Library is excited to offer Line Dancing! T
 his fun and engaging form of exercise is open to everyone. Join us each we
 ek as we learn simple dance patterns that build on one another. No experie
 nce or partner is needed to participate. We hope to see you there!
URL:https://www.jhlibrary.org/event/rhythm-rows-line-dance-class-6769
END:VEVENT
END:VCALENDAR
