BEGIN:VCALENDAR
VERSION:2.0
PRODID:-//Library Market//iCal Export//EN
BEGIN:VEVENT
SUMMARY:Friends of the Library Book Sale
UID:6729
DTSTAMP:20260423T155400Z
DTSTART:20260605T140000Z
DTEND:20260605T213000Z
LOCATION:Jackson Hinds Library System, 605 E Northside Dr., Clinton, MS 39
 056, United States
ROOM: Quisenberry Meeting Room
DESCRIPTION:📚 Friends of the Library Book Sale 📚📆 Friday June 5th
  &amp; Saturday June 6th⏰ 9:00am - 4:30pm both days!Bag of Books - $5 (b
 ag size no larger than 13&quot;x13&quot;)Hardback Books - $1Paperback Book
 s (4x6) - $0.25 or 5/$1Other Paperbacks - $1Children’s Books - $0.50Coff
 ee Table Books - $1 or 5/$3
URL:https://www.jhlibrary.org/event/friends-library-book-sale-6729
END:VEVENT
END:VCALENDAR
